BEGIN:VCALENDAR
VERSION:2.0
PRODID:spatie/icalendar-generator
DESCRIPTION:Events from Hot Girl Comedy
X-WR-CALDESC:Events from Hot Girl Comedy
REFRESH-INTERVAL;VALUE=DURATION:PT1440M
X-PUBLISHED-TTL:PT1440M
BEGIN:VTIMEZONE
TZID:America/Chicago
BEGIN:STANDARD
DTSTART:20251102T020000Z
TZOFFSETFROM:-0500
TZOFFSETTO:-0600
END:STANDARD
BEGIN:DAYLIGHT
DTSTART:20260308T020000Z
TZOFFSETFROM:-0600
TZOFFSETTO:-0500
END:DAYLIGHT
BEGIN:STANDARD
DTSTART:20261101T020000Z
TZOFFSETFROM:-0500
TZOFFSETTO:-0600
END:STANDARD
END:VTIMEZONE
BEGIN:VTIMEZONE
TZID:UTC
BEGIN:STANDARD
DTSTART:20250728T163225Z
TZOFFSETFROM:+0000
TZOFFSETTO:+0000
END:STANDARD
END:VTIMEZONE
BEGIN:VEVENT
UID:249-18
DTSTAMP:20260424T163225Z
SUMMARY:Sin and Stilettos
LOCATION:Sue Ellen\\'s 3014 Throckmorton Street  Dallas Texas 75219
ORGANIZER;CN=Hot Girl Comedy:MAILTO:hotgirlcomedytx@gmail.com
DTSTART;TZID=America/Chicago:20260509T190000
DTEND;TZID=America/Chicago:20260509T210000
X-ALT-DESC;FMTTYPE=TEXT/HTML:<p>A high-glam\, high-heat comedy and burlesqu
 e experience designed specifically for queer nightlife spaces</p>\n
CATEGORIES:Variety
URL;VALUE=URI:https://hotgirlcomedytx.com/mc-events/sin-and-stilettos-3/
METHOD:PUBLISH
END:VEVENT
END:VCALENDAR