BEGIN:VCALENDAR
VERSION:2.0
PRODID:spatie/icalendar-generator
DESCRIPTION:Events from Hot Girl Comedy
X-WR-CALDESC:Events from Hot Girl Comedy
REFRESH-INTERVAL;VALUE=DURATION:PT1440M
X-PUBLISHED-TTL:PT1440M
BEGIN:VTIMEZONE
TZID:America/Chicago
BEGIN:STANDARD
DTSTART:20251102T020000Z
TZOFFSETFROM:-0500
TZOFFSETTO:-0600
END:STANDARD
BEGIN:DAYLIGHT
DTSTART:20260308T020000Z
TZOFFSETFROM:-0600
TZOFFSETTO:-0500
END:DAYLIGHT
BEGIN:STANDARD
DTSTART:20261101T020000Z
TZOFFSETFROM:-0500
TZOFFSETTO:-0600
END:STANDARD
END:VTIMEZONE
BEGIN:VTIMEZONE
TZID:UTC
BEGIN:STANDARD
DTSTART:20250728T163559Z
TZOFFSETFROM:+0000
TZOFFSETTO:+0000
END:STANDARD
END:VTIMEZONE
BEGIN:VEVENT
UID:250-19
DTSTAMP:20260424T163559Z
SUMMARY:Armed Farces: a 24 Karat Tribute to Veterans
LOCATION:Mic Drop Comedy Plano 7301 Lone Star Dr  Suite A-110 Plano Texas 7
 5024
ORGANIZER;CN=Hot Girl Comedy:MAILTO:hotgirlcomedytx@gmail.com
DTSTART;TZID=America/Chicago:20260524T180000
DTEND;TZID=America/Chicago:20260524T200000
X-ALT-DESC;FMTTYPE=TEXT/HTML:<p>Come laugh\, salute\, and enjoy a night of 
 comedy where the mission is simple: bring joy to those who served.</p>\n
CATEGORIES:24 Karat Comedy,  Variety
URL;VALUE=URI:https://hotgirlcomedytx.com/mc-events/armed-farces-a-24-karat
 -tribute-to-veterans/
METHOD:PUBLISH
END:VEVENT
END:VCALENDAR